BEGIN:VCALENDAR
VERSION:2.0
PRODID:-//OmniMagnetCalendar//EN
BEGIN:VEVENT
DTSTAMP:20190625T195740Z
STATUS:CONFIRMED
UID:hrcphilly.clubs.harvard.edu463
DTSTART:20180126T000000Z
DTEND:20180126T020000Z
LOCATION:The Racquet Club of Philadelphia, 215 South 16th Street, Philadelphia, PA, 19102,
SUMMARY:All-Ivy Quizzo Night
DESCRIPTION:Teams from Yale, Harvard, Princeton, Cornell, Dartmouth, Columbia, Brown and Penn will compete in an all-ivy quizzo match at the Racquet Club of Philadelphia. Join us and help the Harvard Team acheive victory at the All-Ivy Quizzo Night!!!
BEGIN:VALARM
TRIGGER:-PT15M
ACTION:DISPLAY
END:VALARM
TRANSP:OPAQUE
END:VEVENT
END:VCALENDAR
