BEGIN:VCALENDAR
VERSION:2.0
PRODID:-//OmniMagnetCalendar//EN
BEGIN:VEVENT
DTSTAMP:20190625T195740Z
STATUS:CONFIRMED
UID:hrcphilly.clubs.harvard.edu506
DTSTART:20190126T190000Z
DTEND:20190126T210000Z
LOCATION:Wayne Art Center, 413 Maplewood Ave, Wayne, PA, 19087, USA,
SUMMARY:International Craft Forms Exhibition at the Wayne Art Center
DESCRIPTION:On displayat the Wayne Art Center, Craft Forms is internationally recognized as one of the premiere contemporary craft exhibitions. Please join us for a visit to this exquisite exhibit. Free event. Friends and family welcome!!!
BEGIN:VALARM
TRIGGER:-PT15M
ACTION:DISPLAY
END:VALARM
TRANSP:OPAQUE
END:VEVENT
END:VCALENDAR
