BEGIN:VCALENDAR
VERSION:2.0
PRODID:-//OmniMagnetCalendar//EN
BEGIN:VEVENT
DTSTAMP:20190625T195740Z
STATUS:CONFIRMED
UID:hrcphilly.clubs.harvard.edu517
DTSTART:20190327T223000Z
DTEND:20190328T003000Z
LOCATION:City Tap House Logan, 2 Logan Square, Philadelphia, PA, 19103,
SUMMARY:Young Alum Happy Hour at City Tap House Logan
DESCRIPTION:Join us for a happy hour event with young alumni from clubs across the city on Wednesday, March 27th, from 6:30-8:30  at City Tap House Logan (2 Logan Square, Philadelphia).  Come to mix, mingle, and meet new people. Feel free to bring friends!
BEGIN:VALARM
TRIGGER:-PT15M
ACTION:DISPLAY
END:VALARM
TRANSP:OPAQUE
END:VEVENT
END:VCALENDAR
