BEGIN:VCALENDAR
VERSION:2.0
PRODID:-//OmniMagnetCalendar//EN
BEGIN:VEVENT
DTSTAMP:20190625T195740Z
STATUS:CONFIRMED
UID:hrcphilly.clubs.harvard.edu536
DTSTART:20191116T150000Z
DTEND:20191116T170000Z
LOCATION:Valley Forge Park / Betzwood Trailhead , Sullivans Ln, Norristown, PA, 19403,
SUMMARY:Autumn Hike: Betzwood Trail / Schuylkill River
DESCRIPTION:Join us for an autumnal walk along the Betzwood Trail, which follows the north side of the Schuylkill River, in Valley Forge Park.
BEGIN:VALARM
TRIGGER:-PT15M
ACTION:DISPLAY
END:VALARM
TRANSP:OPAQUE
END:VEVENT
END:VCALENDAR
