BEGIN:VCALENDAR
VERSION:2.0
PRODID:-//OmniMagnetCalendar//EN
BEGIN:VEVENT
DTSTAMP:20190625T195740Z
STATUS:CONFIRMED
UID:hrcphilly.clubs.harvard.edu544
DTSTART:20200311T223000Z
DTEND:20200312T003000Z
LOCATION:The Great American Pub, 4 West Ave, Wayne, PA, 19087,
SUMMARY:Harvard/All-Ivy Happy Hour in Wayne
DESCRIPTION:Winter warmth in Wayne! Come check out the revitalized downtown and enjoy Ivy networking on the Main Line. Meet at The Great American Pub - Wayne. Feel free to bring friends!!!
BEGIN:VALARM
TRIGGER:-PT15M
ACTION:DISPLAY
END:VALARM
TRANSP:OPAQUE
END:VEVENT
END:VCALENDAR
