BEGIN:VCALENDAR
VERSION:2.0
PRODID:-//OmniMagnetCalendar//EN
BEGIN:VEVENT
DTSTAMP:20190625T195740Z
STATUS:CONFIRMED
UID:hrcphilly.clubs.harvard.edu585
DTSTART:20210923T230000Z
DTEND:20210925T210000Z
LOCATION:
SUMMARY:Unity Weekend: Celebrating Harvard Alumni of Color  ***Sept 23rd-25th***
DESCRIPTION:Unity Weekend is a three-day virtual conference led by—and in celebration of—Harvard alumni of color that will address topics related to race, ethnicity, diversity, equity, and justice.
BEGIN:VALARM
TRIGGER:-PT15M
ACTION:DISPLAY
END:VALARM
TRANSP:OPAQUE
END:VEVENT
END:VCALENDAR
