BEGIN:VCALENDAR
VERSION:2.0
PRODID:-//OmniMagnetCalendar//EN
BEGIN:VEVENT
DTSTAMP:20190625T195740Z
STATUS:CONFIRMED
UID:hrcphilly.clubs.harvard.edu589
DTSTART:20211023T140000Z
DTEND:20211023T163000Z
LOCATION:Valley Forge Park / Knox's Quarters Parking, Knox Tindle Lane, Wayne, PA, 19087, USA,
SUMMARY:Fall Hike in Valley Forge Park
DESCRIPTION:Experience some of the best hiking in our region. Mount Joy in Valley Forge Park offers varied hiking terrain past historic farm houses, and forest flora and fauna.
BEGIN:VALARM
TRIGGER:-PT15M
ACTION:DISPLAY
END:VALARM
TRANSP:OPAQUE
END:VEVENT
END:VCALENDAR
