BEGIN:VCALENDAR
VERSION:2.0
PRODID:-//OmniMagnetCalendar//EN
BEGIN:VEVENT
DTSTAMP:20190625T195740Z
STATUS:CONFIRMED
UID:hrcphilly.clubs.harvard.edu600
DTSTART:20211211T230000Z
DTEND:20211212T010000Z
LOCATION:Private Residence in Applebrook Meadows Community, Malvern, PA, 19355,
SUMMARY:Spanish Wine Tasting on the Main Line
DESCRIPTION:Join us as we explore the wines of Spain with Arthur Goldman for this holiday wine tasting event. An event not to be missed—space is limited, so RSVP early and no later than December 1st!!!
BEGIN:VALARM
TRIGGER:-PT15M
ACTION:DISPLAY
END:VALARM
TRANSP:OPAQUE
END:VEVENT
END:VCALENDAR
