BEGIN:VCALENDAR
VERSION:2.0
PRODID:-//OmniMagnetCalendar//EN
BEGIN:VEVENT
DTSTAMP:20190625T195740Z
STATUS:CONFIRMED
UID:hrcphilly.clubs.harvard.edu605
DTSTART:20220120T000000Z
DTEND:20220120T010000Z
LOCATION:Virtual, Philadelphia, PA,
SUMMARY:Speaker Series: Susan Walter '91 | Good as Dead
DESCRIPTION:Join us to hear Susan Walter '91 discuss her new book, Good as Dead, and the process of transitioning from Hollywood/movies/screenplays to writing a book. All I Wish, which she wrote and directed starring Sharon Stone, is currently streaming on Netflix.
BEGIN:VALARM
TRIGGER:-PT15M
ACTION:DISPLAY
END:VALARM
TRANSP:OPAQUE
END:VEVENT
END:VCALENDAR
