BEGIN:VCALENDAR
VERSION:2.0
PRODID:-//OmniMagnetCalendar//EN
BEGIN:VEVENT
DTSTAMP:20190625T195740Z
STATUS:CONFIRMED
UID:hrcphilly.clubs.harvard.edu634
DTSTART:20220910T210000Z
DTEND:20220911T000000Z
LOCATION:Oriole Park at Camden Yards, 333 W Camden St, Baltimore, MD , 21201,
SUMMARY:Harvard takes over Camden Yards (In Person)
DESCRIPTION:The Harvard Club of Maryland invites Harvard alumni to cheer on our "home" team of the Red Sox as they take on the Orioles in Baltimore!!!
BEGIN:VALARM
TRIGGER:-PT15M
ACTION:DISPLAY
END:VALARM
TRANSP:OPAQUE
END:VEVENT
END:VCALENDAR
