BEGIN:VCALENDAR
VERSION:2.0
PRODID:-//OmniMagnetCalendar//EN
BEGIN:VEVENT
DTSTAMP:20190625T195740Z
STATUS:CONFIRMED
UID:hrcphilly.clubs.harvard.edu647
DTSTART:20221026T163000Z
DTEND:20221026T203000Z
LOCATION:Virtual,
SUMMARY:HBS Alumni Angels | Virtual Global Conference
DESCRIPTION:Emerge Stronger II: New Opportunities in a Technology-Driven World - Join HBS Alumni Angels for a landmark two-day event to hear from world-class entrepreneurs, successful investors, HBS faculty & leaders in innovation. 
BEGIN:VALARM
TRIGGER:-PT15M
ACTION:DISPLAY
END:VALARM
TRANSP:OPAQUE
END:VEVENT
END:VCALENDAR
