BEGIN:VCALENDAR
VERSION:2.0
PRODID:-//OmniMagnetCalendar//EN
BEGIN:VEVENT
DTSTAMP:20190625T195740Z
STATUS:CONFIRMED
UID:hrcphilly.clubs.harvard.edu664
DTSTART:20230219T210000Z
DTEND:20230219T223000Z
LOCATION:Pour Richard’s Coffee Co., 36 Berkley Road, Devon, PA, 19333,
SUMMARY:Cold Brew Coffee Liqueurs & Amari Tasting 
DESCRIPTION:Join the us at Pour Richard's Coffee Co. & Distillery in Devon for a tasting and conversation about the mixology of cold brew coffee liqueurs and amari.
BEGIN:VALARM
TRIGGER:-PT15M
ACTION:DISPLAY
END:VALARM
TRANSP:OPAQUE
END:VEVENT
END:VCALENDAR
