BEGIN:VCALENDAR
VERSION:2.0
PRODID:-//OmniMagnetCalendar//EN
BEGIN:VEVENT
DTSTAMP:20190625T195740Z
STATUS:CONFIRMED
UID:hrcphilly.clubs.harvard.edu674
DTSTART:20230322T230000Z
DTEND:20230323T010000Z
LOCATION:New Deck Tavern, 3408 Sansom Street, Philadelphia, PA, 19104,
SUMMARY:Young Alum Quizzo Night
DESCRIPTION:Calling Harvard Young Alums! Join us for a fun-filled Quizzo night at New Deck Tavern.
BEGIN:VALARM
TRIGGER:-PT15M
ACTION:DISPLAY
END:VALARM
TRANSP:OPAQUE
END:VEVENT
END:VCALENDAR
