BEGIN:VCALENDAR
VERSION:2.0
PRODID:-//OmniMagnetCalendar//EN
BEGIN:VEVENT
DTSTAMP:20190625T195740Z
STATUS:CONFIRMED
UID:hrcphilly.clubs.harvard.edu678
DTSTART:20230310T220000Z
DTEND:20230311T020000Z
LOCATION:Jadwin Gymnasium, Princeton, NJ, 08540,
SUMMARY:Women's Basketball Ivy League Tournament: Harvard vs. Columbia At Princeton
DESCRIPTION:Join the Columbia Club for a tailgate then cheer on our  team at the Ivy League Tournament in Princeton at the Jadwin Gymnasium on Friday, March 10! 
BEGIN:VALARM
TRIGGER:-PT15M
ACTION:DISPLAY
END:VALARM
TRANSP:OPAQUE
END:VEVENT
END:VCALENDAR
