BEGIN:VCALENDAR
VERSION:2.0
PRODID:-//OmniMagnetCalendar//EN
BEGIN:VEVENT
DTSTAMP:20190625T195740Z
STATUS:CONFIRMED
UID:hrcphilly.clubs.harvard.edu682
DTSTART:20230611T173000Z
DTEND:20230611T190000Z
LOCATION:Pour Richard’s Coffee Co., 36 Berkley Road, Devon, PA, 19333,
SUMMARY:Author Series: Murray Dewart, AB '70, Hammer and Tongs
DESCRIPTION:Please join the Harvard Club of Philadelphia for this book talk and social! Murray Dewart, Harvard College Class of 1970, is an internationally recognized sculptor with works in more than 40 museums and public collections around the world.
BEGIN:VALARM
TRIGGER:-PT15M
ACTION:DISPLAY
END:VALARM
TRANSP:OPAQUE
END:VEVENT
END:VCALENDAR
