BEGIN:VCALENDAR
VERSION:2.0
PRODID:-//OmniMagnetCalendar//EN
BEGIN:VEVENT
DTSTAMP:20190625T195740Z
STATUS:CONFIRMED
UID:hrcphilly.clubs.harvard.edu692
DTSTART:20230721T210000Z
DTEND:20230721T233000Z
LOCATION:Walnut Garden, 500 Spring Garden St, Philadelphia, PA, 19123, USA,
SUMMARY:Harvard Young Alum Happy Hour  *** Updated ***
DESCRIPTION:Calling all Harvard Young Alums - join us for a happy hour at Yards Brewing Company to celebrate the summer!
BEGIN:VALARM
TRIGGER:-PT15M
ACTION:DISPLAY
END:VALARM
TRANSP:OPAQUE
END:VEVENT
END:VCALENDAR
