BEGIN:VCALENDAR
VERSION:2.0
PRODID:-//OmniMagnetCalendar//EN
BEGIN:VEVENT
DTSTAMP:20190625T195740Z
STATUS:CONFIRMED
UID:hrcphilly.clubs.harvard.edu697
DTSTART:20230919T223000Z
DTEND:20230919T233000Z
LOCATION:Virtual, Philadelphia, PA,
SUMMARY:Extrovert or Introvert: How to Get the Most out of a Networking Event (Virtual)
DESCRIPTION:Whether it is a fundraiser, professional gathering, client dinner, or even your cousin’s wedding, attending events is a part of your life – both professional and personal. Extroverts love them; introverts tolerate them at best.
BEGIN:VALARM
TRIGGER:-PT15M
ACTION:DISPLAY
END:VALARM
TRANSP:OPAQUE
END:VEVENT
END:VCALENDAR
