BEGIN:VCALENDAR
VERSION:2.0
PRODID:-//OmniMagnetCalendar//EN
BEGIN:VEVENT
DTSTAMP:20190625T195740Z
STATUS:CONFIRMED
UID:hrcphilly.clubs.harvard.edu709
DTSTART:20231117T223000Z
DTEND:20231118T013000Z
LOCATION:Moriarty’s Pub (second floor), 1116 Walnut St, Philadelphia, PA, 19107,
SUMMARY:Harvard Club: Mid-Fall Gathering
DESCRIPTION:Join the Harvard Club of Philadelphia for our Mid-Fall Gathering on Friday, November 17 from 5:30 PM to 8:30 PM at Moriarty's Pub. Connect with old friends and new, and explore the unique 2nd floor space of the storied Irish Pub.
BEGIN:VALARM
TRIGGER:-PT15M
ACTION:DISPLAY
END:VALARM
TRANSP:OPAQUE
END:VEVENT
END:VCALENDAR
