BEGIN:VCALENDAR
VERSION:2.0
PRODID:-//OmniMagnetCalendar//EN
BEGIN:VEVENT
DTSTAMP:20190625T195740Z
STATUS:CONFIRMED
UID:hrcphilly.clubs.harvard.edu720
DTSTART:20240128T200000Z
DTEND:20240128T220000Z
LOCATION:Philadelphia, PA, 19102,
SUMMARY:HCP Book Group: The Heaven and Earth Grocery Store
DESCRIPTION:The next book for discussion is The Heaven and Earth Grocery Store by James McBride, Winner of the National Book Award and B&N Book of the Year 2023.  
BEGIN:VALARM
TRIGGER:-PT15M
ACTION:DISPLAY
END:VALARM
TRANSP:OPAQUE
END:VEVENT
END:VCALENDAR
