BEGIN:VCALENDAR
VERSION:2.0
PRODID:-//OmniMagnetCalendar//EN
BEGIN:VEVENT
DTSTAMP:20190625T195740Z
STATUS:CONFIRMED
UID:hrcphilly.clubs.harvard.edu734
DTSTART:20240415T220000Z
DTEND:20240416T010000Z
LOCATION:
SUMMARY:Harvard Club of Philadelphia Annual Dinner ***Save-the-Date 4/15!!!***
DESCRIPTION:Please save the date for the Club's Annual Meeting & Dinner with special guests from the Harvard Alumni Association. This year's dinner will held at The Arts Ballroom in the heart of Center City Philadelphia. Keep an eye out for early-bird pricing!
BEGIN:VALARM
TRIGGER:-PT15M
ACTION:DISPLAY
END:VALARM
TRANSP:OPAQUE
END:VEVENT
END:VCALENDAR
