BEGIN:VCALENDAR
VERSION:2.0
PRODID:-//OmniMagnetCalendar//EN
BEGIN:VEVENT
DTSTAMP:20190625T195740Z
STATUS:CONFIRMED
UID:hrcphilly.clubs.harvard.edu737
DTSTART:20240420T143000Z
DTEND:20240420T163000Z
LOCATION:Wayne Art Center, 413 Maplewood Ave, Wayne, PA, 19087, USA,
SUMMARY:Wayne Art Center Quilt Exhibit + Radnor Trail Walk
DESCRIPTION:Join us for a self-guided visit to the Art Quilt Elements exhibit at the Wayne Art Center, followed by a stroll on the adjacent Radnor Trail.
BEGIN:VALARM
TRIGGER:-PT15M
ACTION:DISPLAY
END:VALARM
TRANSP:OPAQUE
END:VEVENT
END:VCALENDAR
