BEGIN:VCALENDAR
VERSION:2.0
PRODID:-//OmniMagnetCalendar//EN
BEGIN:VEVENT
DTSTAMP:20190625T195740Z
STATUS:CONFIRMED
UID:hrcphilly.clubs.harvard.edu745
DTSTART:20240628T213000Z
DTEND:20240628T233000Z
LOCATION:Rodin Garden Bar, 2151 Benjamin Franklin Parkway, Philadelphia, PA, 19130, USA,
SUMMARY:Rodin Garden Bar: Happy Hour ** Rescheduled to 6/28 **
DESCRIPTION:Enjoy a change of scenery at the Rodin Garden Bar Pop-up. Explore the Rodin Museum, enjoy refreshing summer cocktails and tasty small plates, listen to music, and take in the garden oasis with fellow Harvard alums, family, and friends on a warm summer’s
BEGIN:VALARM
TRIGGER:-PT15M
ACTION:DISPLAY
END:VALARM
TRANSP:OPAQUE
END:VEVENT
END:VCALENDAR
