BEGIN:VCALENDAR
VERSION:2.0
PRODID:-//OmniMagnetCalendar//EN
BEGIN:VEVENT
DTSTAMP:20190625T195740Z
STATUS:CONFIRMED
UID:hrcphilly.clubs.harvard.edu751
DTSTART:20240918T213000Z
DTEND:20240918T233000Z
LOCATION:Rosemont College, 1400 Montgomery Avenue, Rosemont, PA, 19010, USA,
SUMMARY:Harvard Club Fall Gathering
DESCRIPTION:Join the Harvard Club of Philadelphia's members and guests for our Fall Gathering on Wednesday, September 18 from 5:30 PM to 7:30 PM at the beautiful Rosemont College.
BEGIN:VALARM
TRIGGER:-PT15M
ACTION:DISPLAY
END:VALARM
TRANSP:OPAQUE
END:VEVENT
END:VCALENDAR
