BEGIN:VCALENDAR
VERSION:2.0
PRODID:-//OmniMagnetCalendar//EN
BEGIN:VEVENT
DTSTAMP:20190625T195740Z
STATUS:CONFIRMED
UID:hrcphilly.clubs.harvard.edu760
DTSTART:20241210T230000Z
DTEND:20241211T010000Z
LOCATION:Philadelphia Distilling, 25 E Allen St, Philadelphia, PA, 19123,
SUMMARY:All-Ivy Holiday Party at Philadelphia Distilling
DESCRIPTION:Join Ivy League alumni and friends at the home of Bluecoat Gin for a festive cocktail event to celebrate the holiday season!  
BEGIN:VALARM
TRIGGER:-PT15M
ACTION:DISPLAY
END:VALARM
TRANSP:OPAQUE
END:VEVENT
END:VCALENDAR
