BEGIN:VCALENDAR
VERSION:2.0
PRODID:-//OmniMagnetCalendar//EN
BEGIN:VEVENT
DTSTAMP:20190625T195740Z
STATUS:CONFIRMED
UID:hrcphilly.clubs.harvard.edu767
DTSTART:20250319T213000Z
DTEND:20250320T000000Z
LOCATION:Dock Street South, 2118 Washington Ave, Philadelphia, PA, 19146,
SUMMARY:HAA Global Networking Night
DESCRIPTION:Calling all alumni in Philadelphia, Pennsylvania! Join fellow alums for the return of Global Networking Night on Thursday, March 19th at Dock Street South.
BEGIN:VALARM
TRIGGER:-PT15M
ACTION:DISPLAY
END:VALARM
TRANSP:OPAQUE
END:VEVENT
END:VCALENDAR
