BEGIN:VCALENDAR
VERSION:2.0
PRODID:-//OmniMagnetCalendar//EN
BEGIN:VEVENT
DTSTAMP:20190625T195740Z
STATUS:CONFIRMED
UID:hrcphilly.clubs.harvard.edu771
DTSTART:20250211T230000Z
DTEND:20250212T020000Z
LOCATION:The Racquet Club of Philadelphia, 215 South 16th Street, Philadelphia, PA , 19102,
SUMMARY:Saving the Planet Cost-effectively: Designing Climate Policy for the Real World
DESCRIPTION:Join Harvard Griffin GSAS Dean Emma Dench and Harvard Kennedy School Professor Joseph E. Aldy for a conversation on how climate change mitigation policies based on the social cost of carbon can help avoid significant economic damages.
BEGIN:VALARM
TRIGGER:-PT15M
ACTION:DISPLAY
END:VALARM
TRANSP:OPAQUE
END:VEVENT
END:VCALENDAR
