BEGIN:VCALENDAR
VERSION:2.0
PRODID:-//OmniMagnetCalendar//EN
BEGIN:VEVENT
DTSTAMP:20190625T195740Z
STATUS:CONFIRMED
UID:hrcphilly.clubs.harvard.edu782
DTSTART:20250604T220000Z
DTEND:20250605T000000Z
LOCATION:Carpenters' Hall, 320 Chestnut Street, Philadelphia, PA, 19106,
SUMMARY:Harvard Club Annual Meeting & Dinner *** RSVP Now Open! ***
DESCRIPTION:Join us for the Club's Annual Meeting & Dinner at Carpenters' Hall in Old City on June 4th. Our guest speaker will be Dr. Eugene B. Kogan, an award-winning Harvard thought leader on negotiation and leadership . . .
BEGIN:VALARM
TRIGGER:-PT15M
ACTION:DISPLAY
END:VALARM
TRANSP:OPAQUE
END:VEVENT
END:VCALENDAR
