BEGIN:VCALENDAR
VERSION:2.0
PRODID:-//OmniMagnetCalendar//EN
BEGIN:VEVENT
DTSTAMP:20190625T195740Z
STATUS:CONFIRMED
UID:hrcphilly.clubs.harvard.edu796
DTSTART:20250911T140000Z
DTEND:20250911T170000Z
LOCATION:Winterthur Museum, Garden and Library, 5105 Kennett Pike, Wilmington, DE, 19807,
SUMMARY:Group Tour of Winterthur Garden and Museum 9/20
DESCRIPTION:The Stanford Club invites Harvard Club members to join them at Winterthur, the unique national treasure in Delaware, for a guided garden tour and a self-guided museum tour, followed by lunch. 
BEGIN:VALARM
TRIGGER:-PT15M
ACTION:DISPLAY
END:VALARM
TRANSP:OPAQUE
END:VEVENT
END:VCALENDAR
