BEGIN:VCALENDAR
VERSION:2.0
PRODID:-//OmniMagnetCalendar//EN
BEGIN:VEVENT
DTSTAMP:20190625T195740Z
STATUS:CONFIRMED
UID:hrcphilly.clubs.harvard.edu820
DTSTART:20260108T000000Z
DTEND:20260108T023000Z
LOCATION:Xfinity Mobile Center, 3601 South Broad Street, Philadelphia, PA, 19148,
SUMMARY:Philadelphia 76ers- Harvard Club Night
DESCRIPTION:Join fellow Harvard Alumni in the Assembly Room on the top floor of the arena to cheer on the Philadelphia 76ers as they take on the Washington Wizards.
BEGIN:VALARM
TRIGGER:-PT15M
ACTION:DISPLAY
END:VALARM
TRANSP:OPAQUE
END:VEVENT
END:VCALENDAR
