BEGIN:VCALENDAR
VERSION:2.0
PRODID:-//OmniMagnetCalendar//EN
BEGIN:VEVENT
DTSTAMP:20190625T195740Z
STATUS:CONFIRMED
UID:hrcphilly.clubs.harvard.edu823
DTSTART:20260204T000000Z
DTEND:20260204T023000Z
LOCATION:Xfinity Mobile Center, 3601 South Broad Street, Philadelphia, PA, 19148,
SUMMARY:Philadelphia Flyers - Harvard/Penn Club Night
DESCRIPTION:Join fellow Harvard/Penn Alumni and friends to cheer on the Philadelphia Flyers as they take on the Washington Capitals.
BEGIN:VALARM
TRIGGER:-PT15M
ACTION:DISPLAY
END:VALARM
TRANSP:OPAQUE
END:VEVENT
END:VCALENDAR
