BEGIN:VCALENDAR
VERSION:2.0
PRODID:-//OmniMagnetCalendar//EN
BEGIN:VEVENT
DTSTAMP:20190625T195740Z
STATUS:CONFIRMED
UID:hrcphilly.clubs.harvard.edu826
DTSTART:20260227T220000Z
DTEND:20260228T003000Z
LOCATION:National Liberty Museum,, 321 Chestnut Street, Philadelphia, PA, 19106,
SUMMARY:Harvard Speakers Bureau: Professor Ann-Christine Duhaime  *** Updated ***
DESCRIPTION:Join us for a talk and reception with Harvard Professor Ann-Christine Duhaime on "Climate Change, Your Brain, and the Next 100 Years" at the National Liberty Museum in Old City.
BEGIN:VALARM
TRIGGER:-PT15M
ACTION:DISPLAY
END:VALARM
TRANSP:OPAQUE
END:VEVENT
END:VCALENDAR
