BEGIN:VCALENDAR
VERSION:2.0
PRODID:-//OmniMagnetCalendar//EN
BEGIN:VEVENT
DTSTAMP:20190625T195740Z
STATUS:CONFIRMED
UID:hrcphilly.clubs.harvard.edu841
DTSTART:20260531T190000Z
DTEND:20260531T210000Z
LOCATION:Center City, Locust St, Philadelphia, PA, 19102,
SUMMARY:HCP Book Group: KIN by Tayari Jones
DESCRIPTION:A novel about mothers and daughters, friendship and sisterhood, and the complexities of being a woman in the American South, Kin is an exuberant, emotionally rich, unforgettable work chronicling the starkly different lives of two motherless daughters.
BEGIN:VALARM
TRIGGER:-PT15M
ACTION:DISPLAY
END:VALARM
TRANSP:OPAQUE
END:VEVENT
END:VCALENDAR
