BEGIN:VCALENDAR
VERSION:2.0
PRODID:-//OmniMagnetCalendar//EN
BEGIN:VEVENT
DTSTAMP:20190625T195740Z
STATUS:CONFIRMED
UID:hrcphilly.clubs.harvard.edu842
DTSTART:20260507T220000Z
DTEND:20260608T000000Z
LOCATION:Yards Brewing Company, 500 Spring Garden Street, Philadelphia, PA, 19123,
SUMMARY:Multi-School Mixer
DESCRIPTION:Join alumni from UVA, Brown, Columbia, Georgetown, Harvard, Penn, Stanford, and Yale at Yards Brewing Co. on May 7th for a lively evening of company and conversation.
BEGIN:VALARM
TRIGGER:-PT15M
ACTION:DISPLAY
END:VALARM
TRANSP:OPAQUE
END:VEVENT
END:VCALENDAR
