BEGIN:VCALENDAR
VERSION:2.0
PRODID:-//OmniMagnetCalendar//EN
BEGIN:VEVENT
DTSTAMP:20190625T195740Z
STATUS:CONFIRMED
UID:hrcphilly.clubs.harvard.edu843
DTSTART:20250613T223000Z
DTEND:20250614T020000Z
LOCATION:Pennsylvania Athletic Boathouse, 12 Boathouse Row, Philadelphia , PA, 19103,
SUMMARY:Copy of Summer Night Sculls: Annual All Ivy Night on Boat House Row
DESCRIPTION:Join us for a spectacular summer evening at the 3rd Annual All Ivy Night, hosted at the historic Penn AC Boathouse along Philadelphia’s iconic Boat House Row
BEGIN:VALARM
TRIGGER:-PT15M
ACTION:DISPLAY
END:VALARM
TRANSP:OPAQUE
END:VEVENT
END:VCALENDAR
