BEGIN:VCALENDAR
VERSION:2.0
PRODID:-//OmniMagnetCalendar//EN
BEGIN:VEVENT
DTSTAMP:20190625T195740Z
STATUS:CONFIRMED
UID:hrcphilly.clubs.harvard.edu844
DTSTART:20260530T140000Z
DTEND:20260530T163000Z
LOCATION:New Castle Public Dock, 1 Delaware Street, New Castle, DE, 19720,
SUMMARY:Kalmar Nyckel Tall Ship Sailing Event
DESCRIPTION:Sail the Delaware River on the tall ship Kalmar Nyckel, a re-creation of the 1600’s ship which first brought settlers to New Sweden (Delaware) in 1638. We will set sail from the Historic New Castle public dock, adjacent to New Castle Battery Park.
BEGIN:VALARM
TRIGGER:-PT15M
ACTION:DISPLAY
END:VALARM
TRANSP:OPAQUE
END:VEVENT
END:VCALENDAR
